BEGIN:VCALENDAR
VERSION:2.0
PRODID:-//85.13.136.51//NONSGML kigkonsult.se iCalcreator 2.20//
CALSCALE:GREGORIAN
METHOD:PUBLISH
X-WR-TIMEZONE:Europe/Berlin
BEGIN:VEVENT
UID:event314@test.jungenarbeit.info
DTSTAMP:20260423T221831Z
CATEGORIES:Event
DESCRIPTION:ERÖFFNUNG Ausstellung MUTIG SEIN!\nKategorie: Event\nICS-Link: 
 https://test.jungenarbeit.info/index.php?option=com_jem&view=event&id=314:
 eroeffnung-ausstellung-mutig-sein\n
DTSTART;TZID=Europe/Berlin:20231121T170000
DTEND;TZID=Europe/Berlin:20231121T200000
LOCATION:Einkaufszentrum Steilshoop\,Schreyerring 26\,22309 Hamburg 
SUMMARY:ERÖFFNUNG Ausstellung MUTIG SEIN!
URL:https://test.jungenarbeit.info/index.php?option=com_jem&view=event&id=3
 14:eroeffnung-ausstellung-mutig-sein
END:VEVENT
END:VCALENDAR