BEGIN:VCALENDAR
VERSION:2.0
PRODID:-//85.13.136.51//NONSGML kigkonsult.se iCalcreator 2.20//
CALSCALE:GREGORIAN
METHOD:PUBLISH
X-WR-TIMEZONE:Europe/Berlin
BEGIN:VEVENT
UID:event282@test.jungenarbeit.info
DTSTAMP:20260425T124426Z
CATEGORIES:Fachtagung
DESCRIPTION:Abgesagt! Rassismuskritische Mädchen*- und Jungen*arbeit\nKateg
 orie: Fachtagung\nICS-Link: https://test.jungenarbeit.info/index.php?optio
 n=com_jem&view=event&id=282:ankuendigung-rassismuskritische-maedchen-und-j
 ungen-arbeit\n
DTSTART;TZID=Europe/Berlin:20200507T130000
DTEND;TZID=Europe/Berlin:20200507T180000
LOCATION:Fachhochschule Kiel Mehrzweckgebäude \,Sokratesplatz 1\,24149 Kiel
 \,Germany
SUMMARY:Abgesagt! Rassismuskritische Mädchen*- und Jungen*arbeit
URL:https://test.jungenarbeit.info/index.php?option=com_jem&view=event&id=2
 82:ankuendigung-rassismuskritische-maedchen-und-jungen-arbeit
END:VEVENT
BEGIN:VEVENT
UID:event10@test.jungenarbeit.info
DTSTAMP:20260425T124426Z
CATEGORIES:Fachtagung
DESCRIPTION: 	  Aktuelle Herausforderungen und Positionen der Mädchen*- und 
 Jungen*arbeit\nKategorie: Fachtagung\nICS-Link: https://test.jungenarbeit.
 info/index.php?option=com_jem&view=event&id=10:aktuelle-herausforderungen-
 und-positionen-der-maedchen-und-jungen-arbeit\n
DTSTART;TZID=Europe/Berlin:20180503T133000
DTEND;TZID=Europe/Berlin:20180503T180000
LOCATION:Fachhochschule Kiel Mehrzweckgebäude \,Sokratesplatz 1\,24149 Kiel
 \,Germany
SUMMARY: 	  Aktuelle Herausforderungen und Positionen der Mädchen*- und Jung
 en*arbeit
URL:https://test.jungenarbeit.info/index.php?option=com_jem&view=event&id=1
 0:aktuelle-herausforderungen-und-positionen-der-maedchen-und-jungen-arbeit
END:VEVENT
END:VCALENDAR