BEGIN:VCALENDAR
VERSION:2.0
PRODID:-//85.13.136.51//NONSGML kigkonsult.se iCalcreator 2.20//
CALSCALE:GREGORIAN
METHOD:PUBLISH
X-WR-TIMEZONE:Europe/Berlin
BEGIN:VEVENT
UID:event203@test.jungenarbeit.info
DTSTAMP:20260423T174208Z
CATEGORIES:Fachtagung
DESCRIPTION:Neue Wege\, gleiche Chancen\nKategorie: Fachtagung\nICS-Link: h
 ttps://test.jungenarbeit.info/index.php?option=com_jem&view=event&id=203:n
 eue-wege-gleiche-chancen\n
DTSTART;TZID=Europe/Berlin:20121103T090000
DTEND;TZID=Europe/Berlin:20121103T170000
LOCATION:Heinrich Böll Stiftung - Gunda Werner Institut\,Schuhmannstr.8\,10
 117 Berlin\,Germany
SUMMARY:Neue Wege\, gleiche Chancen
URL:https://test.jungenarbeit.info/index.php?option=com_jem&view=event&id=2
 03:neue-wege-gleiche-chancen
END:VEVENT
BEGIN:VEVENT
UID:event77@test.jungenarbeit.info
DTSTAMP:20260423T174208Z
CATEGORIES:Fachtagung
DESCRIPTION:Rassismus und Männlichkeiten\nKategorie: Fachtagung\nICS-Link: 
 https://test.jungenarbeit.info/index.php?option=com_jem&view=event&id=77:r
 assismus-und-maennlichkeiten\n
DTSTART;TZID=Europe/Berlin:20151107T093000
DTEND;TZID=Europe/Berlin:20151107T170000
LOCATION:Heinrich Böll Stiftung - Gunda Werner Institut\,Schuhmannstr.8\,10
 117 Berlin\,Germany
SUMMARY:Rassismus und Männlichkeiten
URL:https://test.jungenarbeit.info/index.php?option=com_jem&view=event&id=7
 7:rassismus-und-maennlichkeiten
END:VEVENT
BEGIN:VEVENT
UID:event123@test.jungenarbeit.info
DTSTAMP:20260423T174208Z
CATEGORIES:Fachtagung
DESCRIPTION:'Männlichkeiten machen Sinn. Welche? Für Wen? Wozu? Von der heg
 emonialen Männlichkeit zur Parallelkultur von Männlichkeiten?\nKategorie: 
 Fachtagung\nICS-Link: https://test.jungenarbeit.info/index.php?option=com_
 jem&view=event&id=123:maennlichkeiten-machen-sinn-welche-fuer-wen-wozu-von
 -der-hegemonialen-maennlichkeit-zur-parallelkultur-von-maennlichkeiten\n
DTSTART;TZID=Europe/Berlin:20140926T180000
DTEND;TZID=Europe/Berlin:20140927T170000
LOCATION:Heinrich Böll Stiftung - Gunda Werner Institut\,Schuhmannstr.8\,10
 117 Berlin\,Germany
SUMMARY:'Männlichkeiten machen Sinn. Welche? Für Wen? Wozu? Von der hegemon
 ialen Männlichkeit zur Parallelkultur von Männlichkeiten?
URL:https://test.jungenarbeit.info/index.php?option=com_jem&view=event&id=1
 23:maennlichkeiten-machen-sinn-welche-fuer-wen-wozu-von-der-hegemonialen-m
 aennlichkeit-zur-parallelkultur-von-maennlichkeiten
END:VEVENT
BEGIN:VEVENT
UID:event22@test.jungenarbeit.info
DTSTAMP:20260423T174208Z
CATEGORIES:Vernetzungstreffen
DESCRIPTION: 	  Netzwerktreffen  'Werkstatt Männlichkeiten in Politik\, Prax
 is und Forschung'\nKategorie: Vernetzungstreffen\nICS-Link: https://test.j
 ungenarbeit.info/index.php?option=com_jem&view=event&id=22:netzwerktreffen
 -werkstatt-maennlichkeiten-in-politik-praxis-und-forschung\n
DTSTART;TZID=Europe/Berlin:20171103T183000
DTEND;TZID=Europe/Berlin:20171104T170000
LOCATION:Heinrich Böll Stiftung - Gunda Werner Institut\,Schuhmannstr.8\,10
 117 Berlin\,Germany
SUMMARY: 	  Netzwerktreffen  'Werkstatt Männlichkeiten in Politik\, Praxis u
 nd Forschung'
URL:https://test.jungenarbeit.info/index.php?option=com_jem&view=event&id=2
 2:netzwerktreffen-werkstatt-maennlichkeiten-in-politik-praxis-und-forschun
 g
END:VEVENT
END:VCALENDAR