BEGIN:VCALENDAR
VERSION:2.0
PRODID:-//85.13.136.51//NONSGML kigkonsult.se iCalcreator 2.20//
CALSCALE:GREGORIAN
METHOD:PUBLISH
X-WR-TIMEZONE:Europe/Berlin
BEGIN:VEVENT
UID:event29@test.jungenarbeit.info
DTSTAMP:20260425T125826Z
CATEGORIES:Fachtagung
DESCRIPTION:Impulse für die Jungenarbeit - Denkanstöße und Praxisbeispiele
 \nKategorie: Fachtagung\nICS-Link: https://test.jungenarbeit.info/index.ph
 p?option=com_jem&view=event&id=29:impulse-fuer-die-jungenarbeit-denkanstoe
 sse-und-praxisbeispiele\n
DTSTART;TZID=Europe/Berlin:20170707T090000
DTEND;TZID=Europe/Berlin:20170707T164500
LOCATION:Haus der Jugendarbeit Weinstadt \,Stiftstraße 32 (Stiftshof Beutel
 sbach)\,70176 Stuttgart\,Germany
SUMMARY:Impulse für die Jungenarbeit - Denkanstöße und Praxisbeispiele
URL:https://test.jungenarbeit.info/index.php?option=com_jem&view=event&id=2
 9:impulse-fuer-die-jungenarbeit-denkanstoesse-und-praxisbeispiele
END:VEVENT
END:VCALENDAR