BEGIN:VCALENDAR
VERSION:2.0
PRODID:-//85.13.136.51//NONSGML kigkonsult.se iCalcreator 2.20//
CALSCALE:GREGORIAN
METHOD:PUBLISH
X-WR-TIMEZONE:Europe/Berlin
BEGIN:VEVENT
UID:event124@test.jungenarbeit.info
DTSTAMP:20260423T225625Z
CATEGORIES:Fortbildung 
DESCRIPTION:Sexualerziehung in der Kita - Ohne Männer geht es nur halb so g
 ut\nKategorie: Fortbildung \nICS-Link: https://test.jungenarbeit.info/inde
 x.php?option=com_jem&view=event&id=124:sexualerziehung-in-der-kita-ohne-ma
 enner-geht-es-nur-halb-so-gut\n
DTSTART;TZID=Europe/Berlin:20140926T090000
DTEND;TZID=Europe/Berlin:20140926T163000
LOCATION:pro familia Hamburg -Beratungszentrum am Hafen\,Seewartenstraße 10
  - Haus 1\,20459 Hamburg\,Germany
SUMMARY:Sexualerziehung in der Kita - Ohne Männer geht es nur halb so gut
URL:https://test.jungenarbeit.info/index.php?option=com_jem&view=event&id=1
 24:sexualerziehung-in-der-kita-ohne-maenner-geht-es-nur-halb-so-gut
END:VEVENT
BEGIN:VEVENT
UID:event112@test.jungenarbeit.info
DTSTAMP:20260423T225625Z
CATEGORIES:Fortbildung 
DESCRIPTION:Sexualerziehung in der Kita - Ohne Männer geht es nur halb so g
 ut\nKategorie: Fortbildung \nICS-Link: https://test.jungenarbeit.info/inde
 x.php?option=com_jem&view=event&id=112:sexualerziehung-in-der-kita-ohne-ma
 enner-geht-es-nur-halb-so-gut\n
DTSTART;TZID=Europe/Berlin:20141205T090000
DTEND;TZID=Europe/Berlin:20141205T163000
LOCATION:pro familia Hamburg -Beratungszentrum am Hafen\,Seewartenstraße 10
  - Haus 1\,20459 Hamburg\,Germany
SUMMARY:Sexualerziehung in der Kita - Ohne Männer geht es nur halb so gut
URL:https://test.jungenarbeit.info/index.php?option=com_jem&view=event&id=1
 12:sexualerziehung-in-der-kita-ohne-maenner-geht-es-nur-halb-so-gut
END:VEVENT
BEGIN:VEVENT
UID:event75@test.jungenarbeit.info
DTSTAMP:20260423T225625Z
CATEGORIES:Fortbildung 
DESCRIPTION:Sexualerziehung in der Kita - Ohne Männer geht es nur halb so g
 ut\nKategorie: Fortbildung \nICS-Link: https://test.jungenarbeit.info/inde
 x.php?option=com_jem&view=event&id=75:sexualerziehung-in-der-kita-ohne-mae
 nner-geht-es-nur-halb-so-gut\n
DTSTART;TZID=Europe/Berlin:20151126T090000
DTEND;TZID=Europe/Berlin:20151126T163000
LOCATION:pro familia Hamburg -Beratungszentrum am Hafen\,Seewartenstraße 10
  - Haus 1\,20459 Hamburg\,Germany
SUMMARY:Sexualerziehung in der Kita - Ohne Männer geht es nur halb so gut
URL:https://test.jungenarbeit.info/index.php?option=com_jem&view=event&id=7
 5:sexualerziehung-in-der-kita-ohne-maenner-geht-es-nur-halb-so-gut
END:VEVENT
BEGIN:VEVENT
UID:event43@test.jungenarbeit.info
DTSTAMP:20260423T225625Z
CATEGORIES:Diskussionsveranstaltung
DESCRIPTION:Antifeminismus und reaktionäre Sexualpolitiken von konservative
 r Mitte\, Rechtspopulismus und extremer Rechte\nKategorie: Diskussionsvera
 nstaltung\nICS-Link: https://test.jungenarbeit.info/index.php?option=com_j
 em&view=event&id=43:antifeminismus-und-reaktionaere-sexualpolitiken-von-ko
 nservativer-mitte-rechtspopulismus-und-extremer-rechte\n
DTSTART;TZID=Europe/Berlin:20161206T183000
DTEND;TZID=Europe/Berlin:20161206T210000
LOCATION:pro familia Hamburg -Beratungszentrum am Hafen\,Seewartenstraße 10
  - Haus 1\,20459 Hamburg\,Germany
SUMMARY:Antifeminismus und reaktionäre Sexualpolitiken von konservativer Mi
 tte\, Rechtspopulismus und extremer Rechte
URL:https://test.jungenarbeit.info/index.php?option=com_jem&view=event&id=4
 3:antifeminismus-und-reaktionaere-sexualpolitiken-von-konservativer-mitte-
 rechtspopulismus-und-extremer-rechte
END:VEVENT
END:VCALENDAR