BEGIN:VCALENDAR
VERSION:2.0
PRODID:-//85.13.136.51//NONSGML kigkonsult.se iCalcreator 2.20//
CALSCALE:GREGORIAN
METHOD:PUBLISH
X-WR-TIMEZONE:Europe/Berlin
BEGIN:VEVENT
UID:event48@test.jungenarbeit.info
DTSTAMP:20260423T154910Z
CATEGORIES:Fortbildung 
DESCRIPTION:Jungen machen Druck – Schritte zur geschlechterbewussten Arbeit
  mit Jungen\nKategorie: Fortbildung \nICS-Link: https://test.jungenarbeit.
 info/index.php?option=com_jem&view=event&id=48:jungen-machen-druck-schritt
 e-zur-geschlechterbewussten-arbeit-mit-jungen\n
DTSTART;TZID=Europe/Berlin:20161118T100000
DTEND;TZID=Europe/Berlin:20161118T170000
LOCATION:VHS Bargteheide \,Am Markt 4 / Stadthaus \,22941  Bargteheide 
SUMMARY:Jungen machen Druck – Schritte zur geschlechterbewussten Arbeit mit
  Jungen
URL:https://test.jungenarbeit.info/index.php?option=com_jem&view=event&id=4
 8:jungen-machen-druck-schritte-zur-geschlechterbewussten-arbeit-mit-jungen
END:VEVENT
BEGIN:VEVENT
UID:event74@test.jungenarbeit.info
DTSTAMP:20260423T154910Z
CATEGORIES:Fortbildung 
DESCRIPTION:Jungen machen Druck – Schritte zur geschlechterbewussten Arbeit
  mit Jungen\nKategorie: Fortbildung \nICS-Link: https://test.jungenarbeit.
 info/index.php?option=com_jem&view=event&id=74:jungen-machen-druck-schritt
 e-zur-geschlechterbewussten-arbeit-mit-jungen\n
DTSTART;TZID=Europe/Berlin:20151127T100000
DTEND;TZID=Europe/Berlin:20151127T170000
LOCATION:VHS Bargteheide \,Am Markt 4 / Stadthaus \,22941  Bargteheide 
SUMMARY:Jungen machen Druck – Schritte zur geschlechterbewussten Arbeit mit
  Jungen
URL:https://test.jungenarbeit.info/index.php?option=com_jem&view=event&id=7
 4:jungen-machen-druck-schritte-zur-geschlechterbewussten-arbeit-mit-jungen
END:VEVENT
BEGIN:VEVENT
UID:event193@test.jungenarbeit.info
DTSTAMP:20260423T154910Z
CATEGORIES:Fortbildung 
DESCRIPTION:Jungen machen Druck – Schritte zur geschlechterbewussten Arbeit
  mit Jungen\nKategorie: Fortbildung \nICS-Link: https://test.jungenarbeit.
 info/index.php?option=com_jem&view=event&id=193:jungen-machen-druck-schrit
 te-zur-geschlechterbewussten-arbeit-mit-jungen\n
DTSTART;TZID=Europe/Berlin:20130301T100000
DTEND;TZID=Europe/Berlin:20130301T170000
LOCATION:VHS Bargteheide \,Am Markt 4 / Stadthaus \,22941  Bargteheide 
SUMMARY:Jungen machen Druck – Schritte zur geschlechterbewussten Arbeit mit
  Jungen
URL:https://test.jungenarbeit.info/index.php?option=com_jem&view=event&id=1
 93:jungen-machen-druck-schritte-zur-geschlechterbewussten-arbeit-mit-junge
 n
END:VEVENT
BEGIN:VEVENT
UID:event211@test.jungenarbeit.info
DTSTAMP:20260423T154910Z
CATEGORIES:Fortbildung 
DESCRIPTION:Jungen machen Druck – Schritte zur geschlechterbewussten Arbeit
  mit Jungen\nKategorie: Fortbildung \nICS-Link: https://test.jungenarbeit.
 info/index.php?option=com_jem&view=event&id=211:jungen-machen-druck-schrit
 te-zur-geschlechterbewussten-arbeit-mit-jungen\n
DTSTART;TZID=Europe/Berlin:20181122T100000
DTEND;TZID=Europe/Berlin:20181122T160000
LOCATION:VHS Bargteheide \,Am Markt 4 / Stadthaus \,22941  Bargteheide 
SUMMARY:Jungen machen Druck – Schritte zur geschlechterbewussten Arbeit mit
  Jungen
URL:https://test.jungenarbeit.info/index.php?option=com_jem&view=event&id=2
 11:jungen-machen-druck-schritte-zur-geschlechterbewussten-arbeit-mit-junge
 n
END:VEVENT
END:VCALENDAR