BEGIN:VCALENDAR
VERSION:2.0
PRODID:-//85.13.136.51//NONSGML kigkonsult.se iCalcreator 2.20//
CALSCALE:GREGORIAN
METHOD:PUBLISH
X-WR-TIMEZONE:Europe/Berlin
BEGIN:VEVENT
UID:event61@test.jungenarbeit.info
DTSTAMP:20260425T140243Z
CATEGORIES:Diskussionsveranstaltung
DESCRIPTION:Was brauchen Jungen* im Exil?\nKategorie: Diskussionsveranstalt
 ung\nICS-Link: https://test.jungenarbeit.info/index.php?option=com_jem&vie
 w=event&id=61:was-brauchen-jungen-im-exil\n
DTSTART;TZID=Europe/Berlin:20160606T170000
DTEND;TZID=Europe/Berlin:20160606T193000
LOCATION:Wallsaal Zentralbibliothek\,Am Wall 201\,28195 Bremen\,Germany
SUMMARY:Was brauchen Jungen* im Exil?
URL:https://test.jungenarbeit.info/index.php?option=com_jem&view=event&id=6
 1:was-brauchen-jungen-im-exil
END:VEVENT
END:VCALENDAR