BEGIN:VCALENDAR
VERSION:2.0
PRODID:-//85.13.136.51//NONSGML kigkonsult.se iCalcreator 2.20//
CALSCALE:GREGORIAN
METHOD:PUBLISH
X-WR-TIMEZONE:Europe/Berlin
BEGIN:VEVENT
UID:event81@test.jungenarbeit.info
DTSTAMP:20260423T174253Z
CATEGORIES:Fortbildung 
DESCRIPTION:'Sie hatte einen kurzen Rock an und wollte das doch auch?!'\nKa
 tegorie: Fortbildung \nICS-Link: https://test.jungenarbeit.info/index.php?
 option=com_jem&view=event&id=81:sie-hatte-einen-kurzen-rock-an-und-wollte-
 das-doch-auch\n
DTSTART;TZID=Europe/Berlin:20151005T100000
DTEND;TZID=Europe/Berlin:20151005T170000
LOCATION:Beratungsstelle Wendepunkt e.V. \,Schillerstr. 43 \,22767  Hamburg
  \,Germany
SUMMARY:'Sie hatte einen kurzen Rock an und wollte das doch auch?!'
URL:https://test.jungenarbeit.info/index.php?option=com_jem&view=event&id=8
 1:sie-hatte-einen-kurzen-rock-an-und-wollte-das-doch-auch
END:VEVENT
BEGIN:VEVENT
UID:event170@test.jungenarbeit.info
DTSTAMP:20260423T174253Z
CATEGORIES:Fortbildung 
DESCRIPTION:'Sie hatte einen kurzen Rock an und wollte das doch auch?!'\nKa
 tegorie: Fortbildung \nICS-Link: https://test.jungenarbeit.info/index.php?
 option=com_jem&view=event&id=170:sie-hatte-einen-kurzen-rock-an-und-wollte
 -das-doch-auch\n
DTSTART;TZID=Europe/Berlin:20130924T100000
DTEND;TZID=Europe/Berlin:20130924T170000
LOCATION:Beratungsstelle Wendepunkt e.V. \,Schillerstr. 43 \,22767  Hamburg
  \,Germany
SUMMARY:'Sie hatte einen kurzen Rock an und wollte das doch auch?!'
URL:https://test.jungenarbeit.info/index.php?option=com_jem&view=event&id=1
 70:sie-hatte-einen-kurzen-rock-an-und-wollte-das-doch-auch
END:VEVENT
END:VCALENDAR