BEGIN:VCALENDAR
VERSION:2.0
PRODID:-//85.13.136.51//NONSGML kigkonsult.se iCalcreator 2.20//
CALSCALE:GREGORIAN
METHOD:PUBLISH
X-WR-TIMEZONE:Europe/Berlin
BEGIN:VEVENT
UID:event241@test.jungenarbeit.info
DTSTAMP:20260423T160520Z
CATEGORIES:Fortbildung 
DESCRIPTION:Muslimische Maskulinitäten und Sexualitäten - Herausforderungen
  bei/von jungen männlichen Muslimen in Schule\, Pädagogik\, Migration und 
 Arbeitswelt\nKategorie: Fortbildung \nICS-Link: https://test.jungenarbeit.
 info/index.php?option=com_jem&view=event&id=241:muslimische-maskulinitaete
 n-und-sexualitaeten-herausforderungen-bei-von-jungen-maennlichen-muslimen-
 in-schule-paedagogik-migration-und-arbeitswelt\n
DTSTART;TZID=Europe/Berlin:20190527T090000
DTEND;TZID=Europe/Berlin:20190528T150000
LOCATION:Jungenarbeit Hamburg e.V. \,Bramfelder Straße 102 B \,22305  Hambu
 rg \,Germany
SUMMARY:Muslimische Maskulinitäten und Sexualitäten - Herausforderungen bei
 /von jungen männlichen Muslimen in Schule\, Pädagogik\, Migration und Arbe
 itswelt
URL:https://test.jungenarbeit.info/index.php?option=com_jem&view=event&id=2
 41:muslimische-maskulinitaeten-und-sexualitaeten-herausforderungen-bei-von
 -jungen-maennlichen-muslimen-in-schule-paedagogik-migration-und-arbeitswel
 t
END:VEVENT
BEGIN:VEVENT
UID:event235@test.jungenarbeit.info
DTSTAMP:20260423T160520Z
CATEGORIES:Fortbildung 
DESCRIPTION:Geschlechtliche Vielfalt in der Jungen*- und Männer*arbeit\nKat
 egorie: Fortbildung \nICS-Link: https://test.jungenarbeit.info/index.php?o
 ption=com_jem&view=event&id=235:geschlechtliche-vielfalt-in-der-jungen-und
 -maenner-arbeit\n
DTSTART;TZID=Europe/Berlin:20190404T100000
DTEND;TZID=Europe/Berlin:20190404T170000
LOCATION:Jungenarbeit Hamburg e.V. \,Bramfelder Straße 102 B \,22305  Hambu
 rg \,Germany
SUMMARY:Geschlechtliche Vielfalt in der Jungen*- und Männer*arbeit
URL:https://test.jungenarbeit.info/index.php?option=com_jem&view=event&id=2
 35:geschlechtliche-vielfalt-in-der-jungen-und-maenner-arbeit
END:VEVENT
BEGIN:VEVENT
UID:event236@test.jungenarbeit.info
DTSTAMP:20260423T160520Z
CATEGORIES:Fortbildung 
DESCRIPTION:Geschlechtliche Vielfalt in der Mädchen*- und Frauen*arbeit\nKa
 tegorie: Fortbildung \nICS-Link: https://test.jungenarbeit.info/index.php?
 option=com_jem&view=event&id=236:geschlechtliche-vielfalt-in-der-maedchen-
 und-frauen-arbeit\n
DTSTART;TZID=Europe/Berlin:20190426T100000
DTEND;TZID=Europe/Berlin:20190426T170000
LOCATION:Jungenarbeit Hamburg e.V. \,Bramfelder Straße 102 B \,22305  Hambu
 rg \,Germany
SUMMARY:Geschlechtliche Vielfalt in der Mädchen*- und Frauen*arbeit
URL:https://test.jungenarbeit.info/index.php?option=com_jem&view=event&id=2
 36:geschlechtliche-vielfalt-in-der-maedchen-und-frauen-arbeit
END:VEVENT
END:VCALENDAR