BEGIN:VCALENDAR
VERSION:2.0
PRODID:-//85.13.136.51//NONSGML kigkonsult.se iCalcreator 2.20//
CALSCALE:GREGORIAN
METHOD:PUBLISH
X-WR-TIMEZONE:Europe/Berlin
BEGIN:VEVENT
UID:event216@test.jungenarbeit.info
DTSTAMP:20260423T143845Z
CATEGORIES:Diskussionsveranstaltung
DESCRIPTION:'In the dark room everything goes out of the window”: Sex clubs
 \, Dark Rooms and the Loss of Masculinity.\nKategorie: Diskussionsveransta
 ltung\nICS-Link: https://test.jungenarbeit.info/index.php?option=com_jem&v
 iew=event&id=216:in-the-dark-room-everything-goes-out-of-the-window-sex-cl
 ubs-dark-rooms-and-the-loss-of-masculinity\n
DTSTART;TZID=Europe/Berlin:20181121T180000
DTEND;TZID=Europe/Berlin:20181121T200000
LOCATION:Europa-Universität Flensburg\,Auf dem Campus 1\,24943 Flensburg
SUMMARY:'In the dark room everything goes out of the window”: Sex clubs\, D
 ark Rooms and the Loss of Masculinity.
URL:https://test.jungenarbeit.info/index.php?option=com_jem&view=event&id=2
 16:in-the-dark-room-everything-goes-out-of-the-window-sex-clubs-dark-rooms
 -and-the-loss-of-masculinity
END:VEVENT
BEGIN:VEVENT
UID:event215@test.jungenarbeit.info
DTSTAMP:20260423T143845Z
CATEGORIES:Diskussionsveranstaltung
DESCRIPTION:Der Beitrag von Männlichkeitstheorie in intersektionaler Forsch
 ung\nKategorie: Diskussionsveranstaltung\nICS-Link: https://test.jungenarb
 eit.info/index.php?option=com_jem&view=event&id=215:der-beitrag-von-maennl
 ichkeitstheorie-in-intersektionaler-forschung\n
DTSTART;TZID=Europe/Berlin:20181107T180000
DTEND;TZID=Europe/Berlin:20181107T200000
LOCATION:Europa-Universität Flensburg\,Auf dem Campus 1\,24943 Flensburg
SUMMARY:Der Beitrag von Männlichkeitstheorie in intersektionaler Forschung
URL:https://test.jungenarbeit.info/index.php?option=com_jem&view=event&id=2
 15:der-beitrag-von-maennlichkeitstheorie-in-intersektionaler-forschung
END:VEVENT
BEGIN:VEVENT
UID:event214@test.jungenarbeit.info
DTSTAMP:20260423T143845Z
CATEGORIES:Diskussionsveranstaltung
DESCRIPTION:Inclusive Masculinities and the Declining Significance of Homop
 hobia: How Teenage Boys are Redefining Masculinity and Heterosexuality\nKa
 tegorie: Diskussionsveranstaltung\nICS-Link: https://test.jungenarbeit.inf
 o/index.php?option=com_jem&view=event&id=214:inclusive-masculinities-and-t
 he-declining-significance-of-homophobia-how-teenage-boys-are-redefining-ma
 sculinity-and-heterosexuality\n
DTSTART;TZID=Europe/Berlin:20181017T180000
DTEND;TZID=Europe/Berlin:20181017T200000
LOCATION:Europa-Universität Flensburg\,Auf dem Campus 1\,24943 Flensburg
SUMMARY:Inclusive Masculinities and the Declining Significance of Homophobi
 a: How Teenage Boys are Redefining Masculinity and Heterosexuality
URL:https://test.jungenarbeit.info/index.php?option=com_jem&view=event&id=2
 14:inclusive-masculinities-and-the-declining-significance-of-homophobia-ho
 w-teenage-boys-are-redefining-masculinity-and-heterosexuality
END:VEVENT
BEGIN:VEVENT
UID:event217@test.jungenarbeit.info
DTSTAMP:20260423T143845Z
CATEGORIES:Diskussionsveranstaltung
DESCRIPTION:Tradierung oder Transformation von Männlichkeit? Pädagogische A
 nschlüsse\nKategorie: Diskussionsveranstaltung\nICS-Link: https://test.jun
 genarbeit.info/index.php?option=com_jem&view=event&id=217:tradierung-oder-
 transformation-von-maennlichkeit-paedagogische-anschluesse\n
DTSTART;TZID=Europe/Berlin:20181205T180000
DTEND;TZID=Europe/Berlin:20181205T200000
LOCATION:Europa-Universität Flensburg\,Auf dem Campus 1\,24943 Flensburg
SUMMARY:Tradierung oder Transformation von Männlichkeit? Pädagogische Ansch
 lüsse
URL:https://test.jungenarbeit.info/index.php?option=com_jem&view=event&id=2
 17:tradierung-oder-transformation-von-maennlichkeit-paedagogische-anschlue
 sse
END:VEVENT
END:VCALENDAR