BEGIN:VCALENDAR
VERSION:2.0
PRODID:-//85.13.136.51//NONSGML kigkonsult.se iCalcreator 2.20//
CALSCALE:GREGORIAN
METHOD:PUBLISH
X-WR-TIMEZONE:Europe/Berlin
BEGIN:VEVENT
UID:event218@test.jungenarbeit.info
DTSTAMP:20260423T132155Z
CATEGORIES:Fortbildung 
DESCRIPTION:Noch Doktorspiele oder schon ein sexueller Übergriff?\nKategori
 e: Fortbildung \nICS-Link: https://test.jungenarbeit.info/index.php?option
 =com_jem&view=event&id=218:noch-doktorspiele-oder-schon-ein-sexueller-uebe
 rgriff\n
DTSTART;TZID=Europe/Berlin:20181019T090000
DTEND;TZID=Europe/Berlin:20181019T150000
LOCATION:jub - Diakonische Jugendhilfe Bremen gGmbH\,Schiffbauerweg 2\,Brem
 en
SUMMARY:Noch Doktorspiele oder schon ein sexueller Übergriff?
URL:https://test.jungenarbeit.info/index.php?option=com_jem&view=event&id=2
 18:noch-doktorspiele-oder-schon-ein-sexueller-uebergriff
END:VEVENT
BEGIN:VEVENT
UID:event260@test.jungenarbeit.info
DTSTAMP:20260423T132155Z
CATEGORIES:Fortbildung 
DESCRIPTION:Sind es Doktorspiele oder sexuelle Übergriffe unter Kindern?\nK
 ategorie: Fortbildung \nICS-Link: https://test.jungenarbeit.info/index.php
 ?option=com_jem&view=event&id=260:sind-es-doktorspiele-oder-sexuelle-ueber
 griffe-unter-kindern\n
DTSTART;TZID=Europe/Berlin:20191025T090000
DTEND;TZID=Europe/Berlin:20191025T150000
LOCATION:jub - Diakonische Jugendhilfe Bremen gGmbH\,Schiffbauerweg 2\,Brem
 en
SUMMARY:Sind es Doktorspiele oder sexuelle Übergriffe unter Kindern?
URL:https://test.jungenarbeit.info/index.php?option=com_jem&view=event&id=2
 60:sind-es-doktorspiele-oder-sexuelle-uebergriffe-unter-kindern
END:VEVENT
END:VCALENDAR