BEGIN:VCALENDAR
VERSION:2.0
PRODID:-//85.13.136.51//NONSGML kigkonsult.se iCalcreator 2.20//
CALSCALE:GREGORIAN
METHOD:PUBLISH
X-WR-TIMEZONE:Europe/Berlin
BEGIN:VEVENT
UID:event219@test.jungenarbeit.info
DTSTAMP:20260423T221543Z
CATEGORIES:Fachtagung
DESCRIPTION:Genderperspektiven minderjähriger Geflüchteter\nKategorie: Fach
 tagung\nICS-Link: https://test.jungenarbeit.info/index.php?option=com_jem&
 view=event&id=219:genderperspektiven-minderjaehriger-gefluechteter\n
DTSTART;TZID=Europe/Berlin:20181207T100000
DTEND;TZID=Europe/Berlin:20181207T160000
LOCATION:Stephansstift Hannover\,Kirchröder Str. 44B\,30625 Hannover
SUMMARY:Genderperspektiven minderjähriger Geflüchteter
URL:https://test.jungenarbeit.info/index.php?option=com_jem&view=event&id=2
 19:genderperspektiven-minderjaehriger-gefluechteter
END:VEVENT
END:VCALENDAR