BEGIN:VCALENDAR
VERSION:2.0
PRODID:-//85.13.136.51//NONSGML kigkonsult.se iCalcreator 2.20//
CALSCALE:GREGORIAN
METHOD:PUBLISH
X-WR-TIMEZONE:Europe/Berlin
BEGIN:VEVENT
UID:event247@test.jungenarbeit.info
DTSTAMP:20260423T174123Z
CATEGORIES:Vernetzungstreffen
DESCRIPTION:AK Jungen*arbeit Bremen\nKategorie: Vernetzungstreffen\nICS-Lin
 k: https://test.jungenarbeit.info/index.php?option=com_jem&view=event&id=2
 47:ak-jungen-arbeit-bremen\n
DTSTART;TZID=Europe/Berlin:20190826T090000
DTEND;TZID=Europe/Berlin:20190826T123000
LOCATION:Pflegekinder in Bremen\,Bahnhofstr. 28 - 31\,28195 Bremen
SUMMARY:AK Jungen*arbeit Bremen
URL:https://test.jungenarbeit.info/index.php?option=com_jem&view=event&id=2
 47:ak-jungen-arbeit-bremen
END:VEVENT
BEGIN:VEVENT
UID:event232@test.jungenarbeit.info
DTSTAMP:20260423T174123Z
CATEGORIES:Vernetzungstreffen
DESCRIPTION:AK Jungen_arbeit Bremen\nKategorie: Vernetzungstreffen\nICS-Lin
 k: https://test.jungenarbeit.info/index.php?option=com_jem&view=event&id=2
 32:ak-jungen-arbeit-bremen\n
DTSTART;TZID=Europe/Berlin:20190211T090000
DTEND;TZID=Europe/Berlin:20190211T123000
LOCATION:Pflegekinder in Bremen\,Bahnhofstr. 28 - 31\,28195 Bremen
SUMMARY:AK Jungen_arbeit Bremen
URL:https://test.jungenarbeit.info/index.php?option=com_jem&view=event&id=2
 32:ak-jungen-arbeit-bremen
END:VEVENT
END:VCALENDAR