BEGIN:VCALENDAR
VERSION:2.0
PRODID:-//85.13.136.51//NONSGML kigkonsult.se iCalcreator 2.20//
CALSCALE:GREGORIAN
METHOD:PUBLISH
X-WR-TIMEZONE:Europe/Berlin
BEGIN:VEVENT
UID:event242@test.jungenarbeit.info
DTSTAMP:20260425T125846Z
CATEGORIES:Aktionen für Jungen* und Mädchen*
DESCRIPTION:In der Wildnis vor der Haustür: Freundschaft\nKategorie: Aktion
 en für Jungen* und Mädchen*\nICS-Link: https://test.jungenarbeit.info/inde
 x.php?option=com_jem&view=event&id=242:in-der-wildnis-vor-der-haustuer-fre
 undschaft\n
DTSTART;TZID=Europe/Berlin:20190608T100000
DTEND;TZID=Europe/Berlin:20190610T140000
LOCATION:Cölbe
SUMMARY:In der Wildnis vor der Haustür: Freundschaft
URL:https://test.jungenarbeit.info/index.php?option=com_jem&view=event&id=2
 42:in-der-wildnis-vor-der-haustuer-freundschaft
END:VEVENT
END:VCALENDAR