BEGIN:VCALENDAR
VERSION:2.0
PRODID:-//85.13.136.51//NONSGML kigkonsult.se iCalcreator 2.20//
CALSCALE:GREGORIAN
METHOD:PUBLISH
X-WR-TIMEZONE:Europe/Berlin
BEGIN:VEVENT
UID:event244@test.jungenarbeit.info
DTSTAMP:20260423T173750Z
CATEGORIES:Fortbildung 
DESCRIPTION:LSBTIQ* in der offenen Kinder- und Jugendarbeit\nKategorie: For
 tbildung \nICS-Link: https://test.jungenarbeit.info/index.php?option=com_j
 em&view=event&id=244:lsbtiq-in-der-offenen-kinder-und-jugendarbeit\n
DTSTART;TZID=Europe/Berlin:20191126T090000
DTEND;TZID=Europe/Berlin:20191126T170000
LOCATION:Treffpunkt Großlohe\,Stapelfelder Straße 108\,22143 Hamburg
SUMMARY:LSBTIQ* in der offenen Kinder- und Jugendarbeit
URL:https://test.jungenarbeit.info/index.php?option=com_jem&view=event&id=2
 44:lsbtiq-in-der-offenen-kinder-und-jugendarbeit
END:VEVENT
END:VCALENDAR