BEGIN:VCALENDAR
VERSION:2.0
PRODID:-//85.13.136.51//NONSGML kigkonsult.se iCalcreator 2.20//
CALSCALE:GREGORIAN
METHOD:PUBLISH
X-WR-TIMEZONE:Europe/Berlin
BEGIN:VEVENT
UID:event255@test.jungenarbeit.info
DTSTAMP:20260423T160747Z
CATEGORIES:Diskussionsveranstaltung
DESCRIPTION:EINLADUNG zum 3. Regenbogenparlament „Akzeptanz von LSBTI* in J
 ugendarbeit und Bildung“\nKategorie: Diskussionsveranstaltung\nICS-Link: h
 ttps://test.jungenarbeit.info/index.php?option=com_jem&view=event&id=255:e
 inladung-zum-3-regenbogenparlament-akzeptanz-von-lsbti-in-jugendarbeit-und
 -bildung\n
DTSTART;TZID=Europe/Berlin:20190907T093000
DTEND;TZID=Europe/Berlin:20190907T170000
LOCATION:Universität HAMBURG\,Von-Melle-Park 9\,20146 Hamburg
SUMMARY:EINLADUNG zum 3. Regenbogenparlament „Akzeptanz von LSBTI* in Jugen
 darbeit und Bildung“
URL:https://test.jungenarbeit.info/index.php?option=com_jem&view=event&id=2
 55:einladung-zum-3-regenbogenparlament-akzeptanz-von-lsbti-in-jugendarbeit
 -und-bildung
END:VEVENT
END:VCALENDAR