BEGIN:VCALENDAR
VERSION:2.0
PRODID:-//85.13.136.51//NONSGML kigkonsult.se iCalcreator 2.20//
CALSCALE:GREGORIAN
METHOD:PUBLISH
X-WR-TIMEZONE:Europe/Berlin
BEGIN:VEVENT
UID:event256@test.jungenarbeit.info
DTSTAMP:20260423T174324Z
CATEGORIES:Fachtagung
DESCRIPTION:Rolle vorwärts: Rollenzuschreibungen im Migrationskontext\nKate
 gorie: Fachtagung\nICS-Link: https://test.jungenarbeit.info/index.php?opti
 on=com_jem&view=event&id=256:rolle-vorwaerts-rollenzuschreibungen-im-migra
 tionskontext\n
DTSTART;TZID=Europe/Berlin:20191029T100000
DTEND;TZID=Europe/Berlin:20191029T161500
LOCATION:FORUM St. Joseph\,Isernhagener Str. 63\,30163 Hannover
SUMMARY:Rolle vorwärts: Rollenzuschreibungen im Migrationskontext
URL:https://test.jungenarbeit.info/index.php?option=com_jem&view=event&id=2
 56:rolle-vorwaerts-rollenzuschreibungen-im-migrationskontext
END:VEVENT
END:VCALENDAR