BEGIN:VCALENDAR
VERSION:2.0
PRODID:-//85.13.136.51//NONSGML kigkonsult.se iCalcreator 2.20//
CALSCALE:GREGORIAN
METHOD:PUBLISH
X-WR-TIMEZONE:Europe/Berlin
BEGIN:VEVENT
UID:event257@test.jungenarbeit.info
DTSTAMP:20260425T125815Z
CATEGORIES:Fortbildung 
DESCRIPTION:Körperkult(ur) unter Jungen* - Ästhetik\, Inszenierung\, Aneign
 ung\nKategorie: Fortbildung \nICS-Link: https://test.jungenarbeit.info/ind
 ex.php?option=com_jem&view=event&id=257:koerperkult-ur-unter-jungen-aesthe
 tik-inszenierung-aneignung\n
DTSTART;TZID=Europe/Berlin:20191106T100000
DTEND;TZID=Europe/Berlin:20191107T170000
LOCATION:Uni im Bauernhaus Goßberg\,Reichenbacher Str. 15\,09661  Striegist
 al
SUMMARY:Körperkult(ur) unter Jungen* - Ästhetik\, Inszenierung\, Aneignung
URL:https://test.jungenarbeit.info/index.php?option=com_jem&view=event&id=2
 57:koerperkult-ur-unter-jungen-aesthetik-inszenierung-aneignung
END:VEVENT
END:VCALENDAR