BEGIN:VCALENDAR
VERSION:2.0
PRODID:-//85.13.136.51//NONSGML kigkonsult.se iCalcreator 2.20//
CALSCALE:GREGORIAN
METHOD:PUBLISH
X-WR-TIMEZONE:Europe/Berlin
BEGIN:VEVENT
UID:event258@test.jungenarbeit.info
DTSTAMP:20260423T133738Z
CATEGORIES:Fachtagung
DESCRIPTION:Jungen- und Männergesundheit »Männergesundheit im kommunalen Ra
 um«\nKategorie: Fachtagung\nICS-Link: https://test.jungenarbeit.info/index
 .php?option=com_jem&view=event&id=258:oeffentliche-fachtagung-frauen-kirch
 e-heilig-geist-haus-jungen-und-maennergesundheit-maennergesundheit-im-komm
 unalen-raum\n
DTSTART;TZID=Europe/Berlin:20191115T130000
DTEND;TZID=Europe/Berlin:20191117T200000
LOCATION:Heilig-Geist-Haus\,Hans-Sachs-Platz 2\,90403 Nürnberg
SUMMARY:Jungen- und Männergesundheit »Männergesundheit im kommunalen Raum«
URL:https://test.jungenarbeit.info/index.php?option=com_jem&view=event&id=2
 58:oeffentliche-fachtagung-frauen-kirche-heilig-geist-haus-jungen-und-maen
 nergesundheit-maennergesundheit-im-kommunalen-raum
END:VEVENT
END:VCALENDAR