BEGIN:VCALENDAR
VERSION:2.0
PRODID:-//85.13.136.51//NONSGML kigkonsult.se iCalcreator 2.20//
CALSCALE:GREGORIAN
METHOD:PUBLISH
X-WR-TIMEZONE:Europe/Berlin
BEGIN:VEVENT
UID:event354@test.jungenarbeit.info
DTSTAMP:20260423T120236Z
CATEGORIES:DenkPLOSIV
DESCRIPTION:Tiktoksischer Männlichkeit pädagogisch begegnen \nKategorie: De
 nkPLOSIV\nICS-Link: https://test.jungenarbeit.info/index.php?option=com_je
 m&view=event&id=354:tiktoksischer-maennlichkeit-paedagogisch-begegnen\n
DTSTART;TZID=Europe/Berlin:20260602T090000
DTEND;TZID=Europe/Berlin:20260603T160000
LOCATION:Seminarraum Jungenarbeit Hamburg e.V.\,Bramfelder Straße 102 b \,2
 2305 Hamburg
SUMMARY:Tiktoksischer Männlichkeit pädagogisch begegnen 
URL:https://test.jungenarbeit.info/index.php?option=com_jem&view=event&id=3
 54:tiktoksischer-maennlichkeit-paedagogisch-begegnen
END:VEVENT
BEGIN:VEVENT
UID:event292@test.jungenarbeit.info
DTSTAMP:20260423T120236Z
CATEGORIES:Fortbildung 
DESCRIPTION:VIVE - Vielfalt verankern  -Qualifizierung für Fachkräfte\nKate
 gorie: Fortbildung \nICS-Link: https://test.jungenarbeit.info/index.php?op
 tion=com_jem&view=event&id=292:vive-vielfalt-verankern-qualifizierung-fuer
 -fachkraefte\n
DTSTART;TZID=Europe/Berlin:20210114T090000
DTEND;TZID=Europe/Berlin:20210114T150000
LOCATION:Seminarraum Jungenarbeit Hamburg e.V.\,Bramfelder Straße 102 b \,2
 2305 Hamburg
SUMMARY:VIVE - Vielfalt verankern  -Qualifizierung für Fachkräfte
URL:https://test.jungenarbeit.info/index.php?option=com_jem&view=event&id=2
 92:vive-vielfalt-verankern-qualifizierung-fuer-fachkraefte
END:VEVENT
BEGIN:VEVENT
UID:event293@test.jungenarbeit.info
DTSTAMP:20260423T120236Z
CATEGORIES:Fortbildung 
DESCRIPTION:VIVE - vielfalt verankern - Qualifizierung für Fachkräfte\nKate
 gorie: Fortbildung \nICS-Link: https://test.jungenarbeit.info/index.php?op
 tion=com_jem&view=event&id=293:vive-vielfalt-verankern-qualifizierung-fuer
 -fachkraefte\n
DTSTART;TZID=Europe/Berlin:20210120T090000
DTEND;TZID=Europe/Berlin:20210120T150000
LOCATION:Seminarraum Jungenarbeit Hamburg e.V.\,Bramfelder Straße 102 b \,2
 2305 Hamburg
SUMMARY:VIVE - vielfalt verankern - Qualifizierung für Fachkräfte
URL:https://test.jungenarbeit.info/index.php?option=com_jem&view=event&id=2
 93:vive-vielfalt-verankern-qualifizierung-fuer-fachkraefte
END:VEVENT
BEGIN:VEVENT
UID:event290@test.jungenarbeit.info
DTSTAMP:20260423T120236Z
CATEGORIES:Fortbildung 
DESCRIPTION:VIVE Vielfalt verankern - Qualifizierung für Fachkräfte\nKatego
 rie: Fortbildung \nICS-Link: https://test.jungenarbeit.info/index.php?opti
 on=com_jem&view=event&id=290:vive-vielfalt-verankern-qualifizierung\n
DTSTART;TZID=Europe/Berlin:20210106T090000
DTEND;TZID=Europe/Berlin:20210106T150000
LOCATION:Seminarraum Jungenarbeit Hamburg e.V.\,Bramfelder Straße 102 b \,2
 2305 Hamburg
SUMMARY:VIVE Vielfalt verankern - Qualifizierung für Fachkräfte
URL:https://test.jungenarbeit.info/index.php?option=com_jem&view=event&id=2
 90:vive-vielfalt-verankern-qualifizierung
END:VEVENT
BEGIN:VEVENT
UID:event291@test.jungenarbeit.info
DTSTAMP:20260423T120236Z
CATEGORIES:Fortbildung 
DESCRIPTION:VIVE Vielfalt verankern - Qualifizierung für Fachkräfte\nKatego
 rie: Fortbildung \nICS-Link: https://test.jungenarbeit.info/index.php?opti
 on=com_jem&view=event&id=291:vive-vielfalt-verankern-qualifizierung-fuer-f
 achkraefte\n
DTSTART;TZID=Europe/Berlin:20210112T090000
DTEND;TZID=Europe/Berlin:20210112T151500
LOCATION:Seminarraum Jungenarbeit Hamburg e.V.\,Bramfelder Straße 102 b \,2
 2305 Hamburg
SUMMARY:VIVE Vielfalt verankern - Qualifizierung für Fachkräfte
URL:https://test.jungenarbeit.info/index.php?option=com_jem&view=event&id=2
 91:vive-vielfalt-verankern-qualifizierung-fuer-fachkraefte
END:VEVENT
BEGIN:VEVENT
UID:event266@test.jungenarbeit.info
DTSTAMP:20260423T120236Z
CATEGORIES:Fortbildung 
DESCRIPTION:Verschoben in den Herbst 2020! Seminar: Integrationsmanagement 
  - durch interkulturelles und transkulturelles Know-How“  die eigene Arbei
 t mit jungen männlichen* Muslimen erfolgreicher gestalten\nKategorie: Fort
 bildung \nICS-Link: https://test.jungenarbeit.info/index.php?option=com_je
 m&view=event&id=266:seminar-integrationsmanagement-bei-maennlichen-muslimi
 schen-jugendlichen\n
DTSTART;TZID=Europe/Berlin:20200528T090000
DTEND;TZID=Europe/Berlin:20200529T160000
LOCATION:Seminarraum Jungenarbeit Hamburg e.V.\,Bramfelder Straße 102 b \,2
 2305 Hamburg
SUMMARY:Verschoben in den Herbst 2020! Seminar: Integrationsmanagement  - d
 urch interkulturelles und transkulturelles Know-How“  die eigene Arbeit mi
 t jungen männlichen* Muslimen erfolgreicher gestalten
URL:https://test.jungenarbeit.info/index.php?option=com_jem&view=event&id=2
 66:seminar-integrationsmanagement-bei-maennlichen-muslimischen-jugendliche
 n
END:VEVENT
BEGIN:VEVENT
UID:event348@test.jungenarbeit.info
DTSTAMP:20260423T120236Z
CATEGORIES:DenkPLOSIV
DESCRIPTION:Die Basics der Jungenarbeit\nKategorie: DenkPLOSIV\nICS-Link: h
 ttps://test.jungenarbeit.info/index.php?option=com_jem&view=event&id=348:d
 ie-basics-der-jungenarbeit\n
DTSTART;TZID=Europe/Berlin:20260203T100000
DTEND;TZID=Europe/Berlin:20260203T160000
LOCATION:Seminarraum Jungenarbeit Hamburg e.V.\,Bramfelder Straße 102 b \,2
 2305 Hamburg
SUMMARY:Die Basics der Jungenarbeit
URL:https://test.jungenarbeit.info/index.php?option=com_jem&view=event&id=3
 48:die-basics-der-jungenarbeit
END:VEVENT
BEGIN:VEVENT
UID:event285@test.jungenarbeit.info
DTSTAMP:20260423T120236Z
CATEGORIES:Fortbildung 
DESCRIPTION:Fällt leider aus! Fortbildungstag für den Einstieg Geschlechtli
 che Vielfalt in der Jungen*- und Männer*arbeit\nKategorie: Fortbildung \nI
 CS-Link: https://test.jungenarbeit.info/index.php?option=com_jem&view=even
 t&id=285:fortbildungstag-fuer-den-einstieg-geschlechtliche-vielfalt-in-der
 -jungen-und-maenner-arbeit-fuer-paedagog-innen-in-der-jungen-und-maenner-a
 rbeit\n
DTSTART;TZID=Europe/Berlin:20201020T100000
DTEND;TZID=Europe/Berlin:20201020T170000
LOCATION:Seminarraum Jungenarbeit Hamburg e.V.\,Bramfelder Straße 102 b \,2
 2305 Hamburg
SUMMARY:Fällt leider aus! Fortbildungstag für den Einstieg Geschlechtliche 
 Vielfalt in der Jungen*- und Männer*arbeit
URL:https://test.jungenarbeit.info/index.php?option=com_jem&view=event&id=2
 85:fortbildungstag-fuer-den-einstieg-geschlechtliche-vielfalt-in-der-junge
 n-und-maenner-arbeit-fuer-paedagog-innen-in-der-jungen-und-maenner-arbeit
END:VEVENT
BEGIN:VEVENT
UID:event355@test.jungenarbeit.info
DTSTAMP:20260423T120236Z
CATEGORIES:DenkPLOSIV
DESCRIPTION:Jungen in Gruppen\nKategorie: DenkPLOSIV\nICS-Link: https://tes
 t.jungenarbeit.info/index.php?option=com_jem&view=event&id=355:jungen-in-g
 ruppen\n
DTSTART;TZID=Europe/Berlin:20260904T100000
DTEND;TZID=Europe/Berlin:20260904T160000
LOCATION:Seminarraum Jungenarbeit Hamburg e.V.\,Bramfelder Straße 102 b \,2
 2305 Hamburg
SUMMARY:Jungen in Gruppen
URL:https://test.jungenarbeit.info/index.php?option=com_jem&view=event&id=3
 55:jungen-in-gruppen
END:VEVENT
BEGIN:VEVENT
UID:event268@test.jungenarbeit.info
DTSTAMP:20260423T120236Z
CATEGORIES:Fortbildung 
DESCRIPTION:Jungen* in der KiTa\nKategorie: Fortbildung \nICS-Link: https:/
 /test.jungenarbeit.info/index.php?option=com_jem&view=event&id=268:jungen-
 in-der-kita\n
DTSTART;TZID=Europe/Berlin:20200221T100000
DTEND;TZID=Europe/Berlin:20200221T160000
LOCATION:Seminarraum Jungenarbeit Hamburg e.V.\,Bramfelder Straße 102 b \,2
 2305 Hamburg
SUMMARY:Jungen* in der KiTa
URL:https://test.jungenarbeit.info/index.php?option=com_jem&view=event&id=2
 68:jungen-in-der-kita
END:VEVENT
BEGIN:VEVENT
UID:event353@test.jungenarbeit.info
DTSTAMP:20260423T120236Z
CATEGORIES:DenkPLOSIV
DESCRIPTION:Sexklärt? Über Sex reden (lernen)\nKategorie: DenkPLOSIV\nICS-L
 ink: https://test.jungenarbeit.info/index.php?option=com_jem&view=event&id
 =353:sexklaert-ueber-sex-reden-lernen\n
DTSTART;TZID=Europe/Berlin:20260908T100000
DTEND;TZID=Europe/Berlin:20260908T160000
LOCATION:Seminarraum Jungenarbeit Hamburg e.V.\,Bramfelder Straße 102 b \,2
 2305 Hamburg
SUMMARY:Sexklärt? Über Sex reden (lernen)
URL:https://test.jungenarbeit.info/index.php?option=com_jem&view=event&id=3
 53:sexklaert-ueber-sex-reden-lernen
END:VEVENT
BEGIN:VEVENT
UID:event351@test.jungenarbeit.info
DTSTAMP:20260423T120236Z
CATEGORIES:DenkPLOSIV
DESCRIPTION:Transitionen in der Praxis\nKategorie: DenkPLOSIV\nICS-Link: ht
 tps://test.jungenarbeit.info/index.php?option=com_jem&view=event&id=351:tr
 ansitionen-in-der-praxis\n
DTSTART;TZID=Europe/Berlin:20260430T100000
DTEND;TZID=Europe/Berlin:20260430T160000
LOCATION:Seminarraum Jungenarbeit Hamburg e.V.\,Bramfelder Straße 102 b \,2
 2305 Hamburg
SUMMARY:Transitionen in der Praxis
URL:https://test.jungenarbeit.info/index.php?option=com_jem&view=event&id=3
 51:transitionen-in-der-praxis
END:VEVENT
BEGIN:VEVENT
UID:event358@test.jungenarbeit.info
DTSTAMP:20260423T120236Z
CATEGORIES:DenkPLOSIV
DESCRIPTION:Vielfältig gerecht?\nKategorie: DenkPLOSIV\nICS-Link: https://t
 est.jungenarbeit.info/index.php?option=com_jem&view=event&id=358:vielfaelt
 ig-gerecht\n
DTSTART;TZID=Europe/Berlin:20261019T100000
DTEND;TZID=Europe/Berlin:20261019T160000
LOCATION:Seminarraum Jungenarbeit Hamburg e.V.\,Bramfelder Straße 102 b \,2
 2305 Hamburg
SUMMARY:Vielfältig gerecht?
URL:https://test.jungenarbeit.info/index.php?option=com_jem&view=event&id=3
 58:vielfaeltig-gerecht
END:VEVENT
BEGIN:VEVENT
UID:event350@test.jungenarbeit.info
DTSTAMP:20260423T120236Z
CATEGORIES:DenkPLOSIV
DESCRIPTION:Was ist eigentlich eine Transition? - Von Anfang an bitte!\nKat
 egorie: DenkPLOSIV\nICS-Link: https://test.jungenarbeit.info/index.php?opt
 ion=com_jem&view=event&id=350:was-ist-eigentlich-eine-transition-von-anfan
 g-an-bitte\n
DTSTART;TZID=Europe/Berlin:20260423T100000
DTEND;TZID=Europe/Berlin:20260423T160000
LOCATION:Seminarraum Jungenarbeit Hamburg e.V.\,Bramfelder Straße 102 b \,2
 2305 Hamburg
SUMMARY:Was ist eigentlich eine Transition? - Von Anfang an bitte!
URL:https://test.jungenarbeit.info/index.php?option=com_jem&view=event&id=3
 50:was-ist-eigentlich-eine-transition-von-anfang-an-bitte
END:VEVENT
BEGIN:VEVENT
UID:event349@test.jungenarbeit.info
DTSTAMP:20260423T120236Z
CATEGORIES:DenkPLOSIV
DESCRIPTION:„Der hat doch Migrationshintergrund!“\nKategorie: DenkPLOSIV\nI
 CS-Link: https://test.jungenarbeit.info/index.php?option=com_jem&view=even
 t&id=349:der-hat-doch-migrationshintergrund\n
DTSTART;TZID=Europe/Berlin:20260325T100000
DTEND;TZID=Europe/Berlin:20260325T160000
LOCATION:Seminarraum Jungenarbeit Hamburg e.V.\,Bramfelder Straße 102 b \,2
 2305 Hamburg
SUMMARY:„Der hat doch Migrationshintergrund!“
URL:https://test.jungenarbeit.info/index.php?option=com_jem&view=event&id=3
 49:der-hat-doch-migrationshintergrund
END:VEVENT
BEGIN:VEVENT
UID:event360@test.jungenarbeit.info
DTSTAMP:20260423T120236Z
CATEGORIES:DenkPLOSIV
DESCRIPTION:„Körper. Haltung. Wirkung.“ \nKategorie: DenkPLOSIV\nICS-Link: 
 https://test.jungenarbeit.info/index.php?option=com_jem&view=event&id=360:
 koerper-haltung-wirkung\n
DTSTART;TZID=Europe/Berlin:20261112T100000
DTEND;TZID=Europe/Berlin:20261112T180000
LOCATION:Seminarraum Jungenarbeit Hamburg e.V.\,Bramfelder Straße 102 b \,2
 2305 Hamburg
SUMMARY:„Körper. Haltung. Wirkung.“ 
URL:https://test.jungenarbeit.info/index.php?option=com_jem&view=event&id=3
 60:koerper-haltung-wirkung
END:VEVENT
BEGIN:VEVENT
UID:event352@test.jungenarbeit.info
DTSTAMP:20260423T120236Z
CATEGORIES:DenkPLOSIV
DESCRIPTION:„Sag mal\, wie kommt das Baby in den Bauch?“\nKategorie: DenkPL
 OSIV\nICS-Link: https://test.jungenarbeit.info/index.php?option=com_jem&vi
 ew=event&id=352:sag-mal-wie-kommt-das-baby-in-den-bauch\n
DTSTART;TZID=Europe/Berlin:20260505T100000
DTEND;TZID=Europe/Berlin:20260505T160000
LOCATION:Seminarraum Jungenarbeit Hamburg e.V.\,Bramfelder Straße 102 b \,2
 2305 Hamburg
SUMMARY:„Sag mal\, wie kommt das Baby in den Bauch?“
URL:https://test.jungenarbeit.info/index.php?option=com_jem&view=event&id=3
 52:sag-mal-wie-kommt-das-baby-in-den-bauch
END:VEVENT
BEGIN:VEVENT
UID:event320@test.jungenarbeit.info
DTSTAMP:20260423T120236Z
CATEGORIES:DenkPLOSIV
DESCRIPTION:„Toxische Männlichkeit“ in der sozialen Arbeit\nKategorie: Denk
 PLOSIV\nICS-Link: https://test.jungenarbeit.info/index.php?option=com_jem&
 view=event&id=320:toxische-maennlichkeit-geschlechterrollen-und-negative-m
 aennlichkeitsbilder-in-der-sozialen-arbeit\n
DTSTART;TZID=Europe/Berlin:20251111T100000
DTEND;TZID=Europe/Berlin:20251111T140000
LOCATION:Seminarraum Jungenarbeit Hamburg e.V.\,Bramfelder Straße 102 b \,2
 2305 Hamburg
SUMMARY:„Toxische Männlichkeit“ in der sozialen Arbeit
URL:https://test.jungenarbeit.info/index.php?option=com_jem&view=event&id=3
 20:toxische-maennlichkeit-geschlechterrollen-und-negative-maennlichkeitsbi
 lder-in-der-sozialen-arbeit
END:VEVENT
BEGIN:VEVENT
UID:event359@test.jungenarbeit.info
DTSTAMP:20260423T120236Z
CATEGORIES:DenkPLOSIV
DESCRIPTION:„Weil ich es so sage!“\nKategorie: DenkPLOSIV\nICS-Link: https:
 //test.jungenarbeit.info/index.php?option=com_jem&view=event&id=359:weil-i
 ch-es-so-sage\n
DTSTART;TZID=Europe/Berlin:20261105T100000
DTEND;TZID=Europe/Berlin:20261105T160000
LOCATION:Seminarraum Jungenarbeit Hamburg e.V.\,Bramfelder Straße 102 b \,2
 2305 Hamburg
SUMMARY:„Weil ich es so sage!“
URL:https://test.jungenarbeit.info/index.php?option=com_jem&view=event&id=3
 59:weil-ich-es-so-sage
END:VEVENT
END:VCALENDAR